BEGIN:VCALENDAR
VERSION:2.0
PRODID:-//FoCoCo Events - ECPv6.15.20//NONSGML v1.0//EN
CALSCALE:GREGORIAN
METHOD:PUBLISH
X-ORIGINAL-URL:https://fococo.events
X-WR-CALDESC:Events for FoCoCo Events
REFRESH-INTERVAL;VALUE=DURATION:PT1H
X-Robots-Tag:noindex
X-PUBLISHED-TTL:PT1H
BEGIN:VTIMEZONE
TZID:America/Denver
BEGIN:DAYLIGHT
TZOFFSETFROM:-0700
TZOFFSETTO:-0600
TZNAME:MDT
DTSTART:20250309T090000
END:DAYLIGHT
BEGIN:STANDARD
TZOFFSETFROM:-0600
TZOFFSETTO:-0700
TZNAME:MST
DTSTART:20251102T080000
END:STANDARD
BEGIN:DAYLIGHT
TZOFFSETFROM:-0700
TZOFFSETTO:-0600
TZNAME:MDT
DTSTART:20260308T090000
END:DAYLIGHT
BEGIN:STANDARD
TZOFFSETFROM:-0600
TZOFFSETTO:-0700
TZNAME:MST
DTSTART:20261101T080000
END:STANDARD
BEGIN:DAYLIGHT
TZOFFSETFROM:-0700
TZOFFSETTO:-0600
TZNAME:MDT
DTSTART:20270314T090000
END:DAYLIGHT
BEGIN:STANDARD
TZOFFSETFROM:-0600
TZOFFSETTO:-0700
TZNAME:MST
DTSTART:20271107T080000
END:STANDARD
END:VTIMEZONE
BEGIN:VEVENT
DTSTART;TZID=America/Denver:20260505T193000
DTEND;TZID=America/Denver:20260505T223000
DTSTAMP:20260421T220946
CREATED:20260408T215724Z
LAST-MODIFIED:20260408T215818Z
UID:2526-1778009400-1778020200@fococo.events
SUMMARY:CINCO DE MAYO Salsa/Bachata Party in Fort Collins !
DESCRIPTION:Celebrate CINCO DE MAYO during The Best SALSA/BACHATA DANCING in Fort Collins ! \nCome to HAVE FUN DANCING and MAKING NEW FRIENDS !   \nCINCO DE MAYO ! Yes\, it literally translates to Fifth of May and this event will precisely on 5/5/2026 (From 7:30pm -1030 pm) \nWe’ll kick off this well-attended event with a hybrid Salsa and Bachata class right at 7:30pm. Yes\, we’ll be starting at 7:30pm in May till November. \nTill then\, this is what you should do: \n– Grab those early bird tickets — Yes\, we start them cheaper early and the price goes up as we get closer to the event. Those who commit early help us plan a better event by knowing who to expect and what kind of lesson and/or music to prep. \n– Invite friends and family you’d love to join you during this event \n– Come early for food and drinks downstairs\, stay for the dancing upstairs. \n\nPartner NOT required\n\nThis dance party will take place at The Official Rio Grande [Agave Room upstairs]__  NOT in the main restaurant\, as some have been asking. \nNOTE: We’ll continue a new tradition of having a Community Table (by the DJ) where new people can inquire about the dance happenings and regulars can organize and learn about other events in the community. \n– 7:30PM: A complimentary group lesson \n– 8:30PM: Open dance social for all\, will get going right on time if not a few minutes early \n  \nNOTE: This event will conclude at 10:30pm sharp! \nA pro DJ will be on hand to serve out some hot and highly danceable Salsa\, sultry Bachata\, Merengue\, Cumbia\, etc. \nSee you on the floor and and let’s melt the snow ! \nNOTE: Those who want to be invited to a social get-together after the dance\, send us a private message \n 
URL:https://fococo.events/event/2026-cinco-de-mayo-salsa-bachata-dance-party-fort-collins/
LOCATION:Rio Grande (Agave Room)\, 147 W Mountain Ave\, Fort Collins\, CO\, 80524\, United States
ATTACH;FMTTYPE=image/png:https://fococo.events/wp-content/uploads/2026/04/2026CincoDeMayoAtRio_FB.png
END:VEVENT
BEGIN:VEVENT
DTSTART;TZID=America/Denver:20260506T193000
DTEND;TZID=America/Denver:20260506T230000
DTSTAMP:20260421T220946
CREATED:20260410T002307Z
LAST-MODIFIED:20260410T002320Z
UID:2558-1778095800-1778108400@fococo.events
SUMMARY:Cinco de Bachata Dance at The Neighbor - May Edition
DESCRIPTION:Cinco de Bachata Dance Night of 2026 – a Cinco de Mayo week dance & birthday celebrations \nHappy Finals week too !\n\nNOTE: This is the premier BACHATA Night in Fort Collins.. Please note the format and music vibe difference with the event at Rio which is more open Salsa-centric format and community gathering type event. The Neighbor event is more intimate and elegant experience. \nThat said\, we would like to encourage you to: \n\nGrab your ticket as soon as possible\nDress up for the occasion\nInvite friends and family you love to join you\nCome early for food and drinks\, stay for the dancing on that special day.\n\nWe will have a complimentary all-level dance lesson starting at 7:30pm for all those who buy their attendance ticket. \nWe will also a pro DJ at hand to make sure your dancing mix is on point. \nIt is all about that love right ? \nFoCoCo Events Team \n  \n 
URL:https://fococo.events/event/cinco-de-bachata-dance-party-neighbor-may/
LOCATION:The Neighbor\, 144 S Mason\, Fort Collins\, 80524\, United States
ATTACH;FMTTYPE=image/png:https://fococo.events/wp-content/uploads/2026/04/BachataMay6_FB.png
END:VEVENT
END:VCALENDAR