BEGIN:VCALENDAR
VERSION:2.0
PRODID:-//FoCoCo Events - ECPv6.15.20//NONSGML v1.0//EN
CALSCALE:GREGORIAN
METHOD:PUBLISH
X-ORIGINAL-URL:https://fococo.events
X-WR-CALDESC:Events for FoCoCo Events
REFRESH-INTERVAL;VALUE=DURATION:PT1H
X-Robots-Tag:noindex
X-PUBLISHED-TTL:PT1H
BEGIN:VTIMEZONE
TZID:America/Denver
BEGIN:DAYLIGHT
TZOFFSETFROM:-0700
TZOFFSETTO:-0600
TZNAME:MDT
DTSTART:20230312T090000
END:DAYLIGHT
BEGIN:STANDARD
TZOFFSETFROM:-0600
TZOFFSETTO:-0700
TZNAME:MST
DTSTART:20231105T080000
END:STANDARD
BEGIN:DAYLIGHT
TZOFFSETFROM:-0700
TZOFFSETTO:-0600
TZNAME:MDT
DTSTART:20240310T090000
END:DAYLIGHT
BEGIN:STANDARD
TZOFFSETFROM:-0600
TZOFFSETTO:-0700
TZNAME:MST
DTSTART:20241103T080000
END:STANDARD
BEGIN:DAYLIGHT
TZOFFSETFROM:-0700
TZOFFSETTO:-0600
TZNAME:MDT
DTSTART:20250309T090000
END:DAYLIGHT
BEGIN:STANDARD
TZOFFSETFROM:-0600
TZOFFSETTO:-0700
TZNAME:MST
DTSTART:20251102T080000
END:STANDARD
END:VTIMEZONE
BEGIN:VEVENT
DTSTART;TZID=America/Denver:20240214T183000
DTEND;TZID=America/Denver:20240214T213000
DTSTAMP:20260422T160824
CREATED:20240126T045556Z
LAST-MODIFIED:20240126T045556Z
UID:1505-1707935400-1707946200@fococo.events
SUMMARY:Salsa/Bachata Dance @ Rio - Valentine's Edition 2024
DESCRIPTION:This is a special Valentine’s Edition of our monthly Salsa & Bachata dance event at Rio Grande’s Agave Room.\nPlease note that this will be on WEDNESDAY (Feb.14th) \, Not Tuesday Feb.6th as it would be the 1st Tuesday of the month. \nThat out of the way\, now we would like to encourage you to: \n\nDress up for the occasion\nInvite friends and family you love to join you\nCome early for food and drinks\, stay for the dancing on that special day.\n\nWe will have a complimentary all-level dance lesson starting at 6:30pm for all those who buy their attendance ticket. \nWe will also have 2 pro DJs at hand to make sure your dancing mix is on point. \nIt is all about that love right ? \nFoCoCo Team \nLesson:  It will start right at 6:30pm (New Time till May ’24)
URL:https://fococo.events/event/salsa-bachata-fortcollins-valentine-2024/
LOCATION:Rio Grande (Agave Room)\, 147 W Mountain Ave\, Fort Collins\, CO\, 80524\, United States
ATTACH;FMTTYPE=image/png:https://fococo.events/wp-content/uploads/2024/01/Rio_20240214-_sm-sm.png
END:VEVENT
END:VCALENDAR