BEGIN:VCALENDAR
VERSION:2.0
PRODID:-//FoCoCo Events - ECPv6.15.20//NONSGML v1.0//EN
CALSCALE:GREGORIAN
METHOD:PUBLISH
X-WR-CALNAME:FoCoCo Events
X-ORIGINAL-URL:https://fococo.events
X-WR-CALDESC:Events for FoCoCo Events
REFRESH-INTERVAL;VALUE=DURATION:PT1H
X-Robots-Tag:noindex
X-PUBLISHED-TTL:PT1H
BEGIN:VTIMEZONE
TZID:America/Denver
BEGIN:DAYLIGHT
TZOFFSETFROM:-0700
TZOFFSETTO:-0600
TZNAME:MDT
DTSTART:20240310T090000
END:DAYLIGHT
BEGIN:STANDARD
TZOFFSETFROM:-0600
TZOFFSETTO:-0700
TZNAME:MST
DTSTART:20241103T080000
END:STANDARD
BEGIN:DAYLIGHT
TZOFFSETFROM:-0700
TZOFFSETTO:-0600
TZNAME:MDT
DTSTART:20250309T090000
END:DAYLIGHT
BEGIN:STANDARD
TZOFFSETFROM:-0600
TZOFFSETTO:-0700
TZNAME:MST
DTSTART:20251102T080000
END:STANDARD
BEGIN:DAYLIGHT
TZOFFSETFROM:-0700
TZOFFSETTO:-0600
TZNAME:MDT
DTSTART:20260308T090000
END:DAYLIGHT
BEGIN:STANDARD
TZOFFSETFROM:-0600
TZOFFSETTO:-0700
TZNAME:MST
DTSTART:20261101T080000
END:STANDARD
END:VTIMEZONE
BEGIN:VEVENT
DTSTART;TZID=America/Denver:20250304T183000
DTEND;TZID=America/Denver:20250304T213000
DTSTAMP:20260421T232621
CREATED:20250212T065524Z
LAST-MODIFIED:20250212T065524Z
UID:1747-1741113000-1741123800@fococo.events
SUMMARY:Salsa/Bachata Dance at Rio - March.2025 Edition
DESCRIPTION:COME and MAKE NEW FRIENDS!   Let’s get together and celebrate the soon-to-arrive spring\, friendships and family with some Salsa and Bachata\, shall we ? : We’ll kick off this well-attended event with a Salsa class right at 6:30pm. Till then\, this is what you should do: \n– Grab those early bird tickets ( above) — Yes\, we start them cheaper early and the price goes up as we get closer to the event. Those who commit early help us plan a better event by knowing who to expect and what kind of lesson and/or music to prep. \n– Invite friends and family you’d love to join you during this event \n– Come early for food and drinks downstairs\, stay for the dancing upstairs. \nThis dance party will take place at The Official Rio Grande [Agave Room upstairs]__  NOT in the main restaurant\, as some have been asking. \nNEW: – We’ll continue a new tradition of having a Community Table where new people can inquire about the dance happenings and regulars can organize and learn about other events in the community. \n– 6:30PM: A complimentary group lesson \n– 7:30PM: Open dance social for all\, will get going right on time if not a few minutes early \nNOTE: This event will conclude at 9:30pm sharp! \n2 pro DJs will be on hand to serve out some hot and highly danceable Salsa\, sultry Bachata\, Merengue\, Cumbia\, etc.See you on the floor  !\nNOTE: Those who want to be invited to a social get-together after the dance\, send us a private message
URL:https://fococo.events/event/salsa-bachata-dance-at-rio-march-2025-edition/
LOCATION:Rio Grande (Agave Room)\, 147 W Mountain Ave\, Fort Collins\, CO\, 80524\, United States
ATTACH;FMTTYPE=image/png:https://fococo.events/wp-content/uploads/2025/02/March.4Vert-s.png
END:VEVENT
END:VCALENDAR