BEGIN:VCALENDAR
VERSION:2.0
PRODID:-//FoCoCo Events - ECPv6.15.20//NONSGML v1.0//EN
CALSCALE:GREGORIAN
METHOD:PUBLISH
X-ORIGINAL-URL:https://fococo.events
X-WR-CALDESC:Events for FoCoCo Events
REFRESH-INTERVAL;VALUE=DURATION:PT1H
X-Robots-Tag:noindex
X-PUBLISHED-TTL:PT1H
BEGIN:VTIMEZONE
TZID:America/Denver
BEGIN:DAYLIGHT
TZOFFSETFROM:-0700
TZOFFSETTO:-0600
TZNAME:MDT
DTSTART:20220313T090000
END:DAYLIGHT
BEGIN:STANDARD
TZOFFSETFROM:-0600
TZOFFSETTO:-0700
TZNAME:MST
DTSTART:20221106T080000
END:STANDARD
BEGIN:DAYLIGHT
TZOFFSETFROM:-0700
TZOFFSETTO:-0600
TZNAME:MDT
DTSTART:20230312T090000
END:DAYLIGHT
BEGIN:STANDARD
TZOFFSETFROM:-0600
TZOFFSETTO:-0700
TZNAME:MST
DTSTART:20231105T080000
END:STANDARD
BEGIN:DAYLIGHT
TZOFFSETFROM:-0700
TZOFFSETTO:-0600
TZNAME:MDT
DTSTART:20240310T090000
END:DAYLIGHT
BEGIN:STANDARD
TZOFFSETFROM:-0600
TZOFFSETTO:-0700
TZNAME:MST
DTSTART:20241103T080000
END:STANDARD
END:VTIMEZONE
BEGIN:VEVENT
DTSTART;TZID=America/Denver:20231205T183000
DTEND;TZID=America/Denver:20231205T213000
DTSTAMP:20260422T204228
CREATED:20231117T080339Z
LAST-MODIFIED:20231117T081120Z
UID:1488-1701801000-1701811800@fococo.events
SUMMARY:Salsa/Bachata big dance event at Rio [Holiday 2023. Edition]
DESCRIPTION:This our big monthly (this case\, annual) event you should not miss. Go ahead and click on + bellow to indicate how many tickets you want and it will show you the total to pay… no ticketing fees\, nothing. \nLesson:  It will start right at 6:30pm (New Time till May ’24)
URL:https://fococo.events/event/salsa-bachata-big-dance-event-at-rio-holiday-2023-edition/
LOCATION:Rio Grande (Agave Room)\, 147 W Mountain Ave\, Fort Collins\, CO\, 80524\, United States
ATTACH;FMTTYPE=image/png:https://fococo.events/wp-content/uploads/2023/11/Rio_20231205_sm.png
END:VEVENT
END:VCALENDAR