BEGIN:VCALENDAR
VERSION:2.0
PRODID:-//FoCoCo Events - ECPv6.15.20//NONSGML v1.0//EN
CALSCALE:GREGORIAN
METHOD:PUBLISH
X-WR-CALNAME:FoCoCo Events
X-ORIGINAL-URL:https://fococo.events
X-WR-CALDESC:Events for FoCoCo Events
REFRESH-INTERVAL;VALUE=DURATION:PT1H
X-Robots-Tag:noindex
X-PUBLISHED-TTL:PT1H
BEGIN:VTIMEZONE
TZID:America/Denver
BEGIN:DAYLIGHT
TZOFFSETFROM:-0700
TZOFFSETTO:-0600
TZNAME:MDT
DTSTART:20230312T090000
END:DAYLIGHT
BEGIN:STANDARD
TZOFFSETFROM:-0600
TZOFFSETTO:-0700
TZNAME:MST
DTSTART:20231105T080000
END:STANDARD
BEGIN:DAYLIGHT
TZOFFSETFROM:-0700
TZOFFSETTO:-0600
TZNAME:MDT
DTSTART:20240310T090000
END:DAYLIGHT
BEGIN:STANDARD
TZOFFSETFROM:-0600
TZOFFSETTO:-0700
TZNAME:MST
DTSTART:20241103T080000
END:STANDARD
BEGIN:DAYLIGHT
TZOFFSETFROM:-0700
TZOFFSETTO:-0600
TZNAME:MDT
DTSTART:20250309T090000
END:DAYLIGHT
BEGIN:STANDARD
TZOFFSETFROM:-0600
TZOFFSETTO:-0700
TZNAME:MST
DTSTART:20251102T080000
END:STANDARD
END:VTIMEZONE
BEGIN:VEVENT
DTSTART;TZID=America/Denver:20240507T193000
DTEND;TZID=America/Denver:20240507T223000
DTSTAMP:20260422T132127
CREATED:20240429T231356Z
LAST-MODIFIED:20240429T231529Z
UID:1538-1715110200-1715121000@fococo.events
SUMMARY:Salsa/Bachata Dance @ Rio - May Edition 2024
DESCRIPTION:Now to our 1st Tuesday of the month : May’s Edition of our monthly Salsa & Bachata dance event at Rio Grande’s Agave Room.\n\nWe’ll be continuing with the Cinco de Mayo vibe and the full arrival of Spring – before the summer heat sets in. With that\, let’s: \n\n– Grab those early bird tickets (click on the link above or at https://fococo.events)\n– Invite friends and family you’d love to join you during this event– Come early for food and drinks downstairs\, stay for the dancing upstairs.\n\nThis dance party will take place at The Official Rio Grande [Agave Room upstairs]__ NOT in the main restaurant\, as some have been asking. \n\n\nNEW: – We’ll continue a new tradition of having a Community Table where new people can inquire about the dance happenings and regulars can organize and learn about other events in the community. \n\n– 7:30PM: A complimentary group lesson (a primer\, if you will)Shannon & Ben will be back with a Bachata & Salsa special combo class for all.\n\n– 8:30PM: Open dance social for all\, will get going right on time if not a few minutes early \n\n\nNOTE: This event will conclude at 10:30pm sharp! \n\n2 pro DJs will be on hand to serve out some hot and highly danceable Salsa\, sultry Bachata\, Merengue\, Cumbia\, etc.\n\nSee you on the floor and Happy Spring 2024 ! \n\nNOTE: Those who want to be invited to a social get-together after the dance\, send us a private message\n\n\n  \n\n\nFoCoCo Team \nLesson:  It will start right at 7:30pm (New Time till Nov ’24)
URL:https://fococo.events/event/salsa-bachata-at-rio-may2024/
LOCATION:Rio Grande (Agave Room)\, 147 W Mountain Ave\, Fort Collins\, CO\, 80524\, United States
ATTACH;FMTTYPE=image/png:https://fococo.events/wp-content/uploads/2024/04/Rio_20240507_sm.png
END:VEVENT
END:VCALENDAR