BEGIN:VCALENDAR
VERSION:2.0
PRODID:-//FoCoCo Events - ECPv6.15.20//NONSGML v1.0//EN
CALSCALE:GREGORIAN
METHOD:PUBLISH
X-ORIGINAL-URL:https://fococo.events
X-WR-CALDESC:Events for FoCoCo Events
REFRESH-INTERVAL;VALUE=DURATION:PT1H
X-Robots-Tag:noindex
X-PUBLISHED-TTL:PT1H
BEGIN:VTIMEZONE
TZID:America/Denver
BEGIN:DAYLIGHT
TZOFFSETFROM:-0700
TZOFFSETTO:-0600
TZNAME:MDT
DTSTART:20230312T090000
END:DAYLIGHT
BEGIN:STANDARD
TZOFFSETFROM:-0600
TZOFFSETTO:-0700
TZNAME:MST
DTSTART:20231105T080000
END:STANDARD
BEGIN:DAYLIGHT
TZOFFSETFROM:-0700
TZOFFSETTO:-0600
TZNAME:MDT
DTSTART:20240310T090000
END:DAYLIGHT
BEGIN:STANDARD
TZOFFSETFROM:-0600
TZOFFSETTO:-0700
TZNAME:MST
DTSTART:20241103T080000
END:STANDARD
BEGIN:DAYLIGHT
TZOFFSETFROM:-0700
TZOFFSETTO:-0600
TZNAME:MDT
DTSTART:20250309T090000
END:DAYLIGHT
BEGIN:STANDARD
TZOFFSETFROM:-0600
TZOFFSETTO:-0700
TZNAME:MST
DTSTART:20251102T080000
END:STANDARD
END:VTIMEZONE
BEGIN:VEVENT
DTSTART;TZID=America/Denver:20240903T193000
DTEND;TZID=America/Denver:20240903T223000
DTSTAMP:20260422T083441
CREATED:20240813T185549Z
LAST-MODIFIED:20240822T190642Z
UID:1602-1725391800-1725402600@fococo.events
SUMMARY:Salsa/Bachata Dance @ Rio - September Edition 2024
DESCRIPTION:Now we are back to our 1st Tuesday of the month :September”s Edition of our monthly Salsa & Bachata dance event at Rio Grande’s Agave Room. \nLet’s celebrate the full arrival of Autumn season with some hot salsa and more sensual bachata’s\, shall we ? : We’ll kick off this well-attended event with a complimentary dance lesson right at 7:30pm. See FB for more details on that. \nTill then\, this is what you should do: \n– Grab those early bird tickets (on this page) — Yes\, we start them early and the price goes up as we get closer to the event. Those who commit early help us plan a better event by knowing who to expect and what kind of lesson and/or music to prep. \n– Invite friends and family you’d love to join you during this event \n– Come early for food and drinks downstairs\, stay for the dancing upstairs. \nThis dance party will take place at The Official Rio Grande [Agave Room upstairs]__  NOT in the main restaurant\, as some have been asking. \nNEW: – We’ll continue a new tradition of having a Community Table where new people can inquire about the dance happenings and regulars can organize and learn about other events in the community. \n– 7:30PM: A complimentary group lesson\n– 8:30PM: Open dance social for all\, will get going right on time if not a few minutes early \nNOTE: This event will conclude at 10:30pm sharp! \n2 pro DJs will be on hand to serve out some hot and highly danceable Salsa\, sultry Bachata\, Merengue\, Cumbia\, etc. \nSee you on the floor and and welcome to the summer 2024 ! \nNOTE: Those who want to be invited to a social get-together after the dance\, send us a private message
URL:https://fococo.events/event/salsa-bachata-at-rio-sept2024/
LOCATION:Rio Grande (Agave Room)\, 147 W Mountain Ave\, Fort Collins\, CO\, 80524\, United States
ATTACH;FMTTYPE=image/png:https://fococo.events/wp-content/uploads/2024/08/20240903-FB-Cover-1920-x-1080-px-sm.png
END:VEVENT
END:VCALENDAR