BEGIN:VCALENDAR
VERSION:2.0
PRODID:-//FoCoCo Events - ECPv6.15.20//NONSGML v1.0//EN
CALSCALE:GREGORIAN
METHOD:PUBLISH
X-ORIGINAL-URL:https://fococo.events
X-WR-CALDESC:Events for FoCoCo Events
REFRESH-INTERVAL;VALUE=DURATION:PT1H
X-Robots-Tag:noindex
X-PUBLISHED-TTL:PT1H
BEGIN:VTIMEZONE
TZID:America/Denver
BEGIN:DAYLIGHT
TZOFFSETFROM:-0700
TZOFFSETTO:-0600
TZNAME:MDT
DTSTART:20240310T090000
END:DAYLIGHT
BEGIN:STANDARD
TZOFFSETFROM:-0600
TZOFFSETTO:-0700
TZNAME:MST
DTSTART:20241103T080000
END:STANDARD
BEGIN:DAYLIGHT
TZOFFSETFROM:-0700
TZOFFSETTO:-0600
TZNAME:MDT
DTSTART:20250309T090000
END:DAYLIGHT
BEGIN:STANDARD
TZOFFSETFROM:-0600
TZOFFSETTO:-0700
TZNAME:MST
DTSTART:20251102T080000
END:STANDARD
BEGIN:DAYLIGHT
TZOFFSETFROM:-0700
TZOFFSETTO:-0600
TZNAME:MDT
DTSTART:20260308T090000
END:DAYLIGHT
BEGIN:STANDARD
TZOFFSETFROM:-0600
TZOFFSETTO:-0700
TZNAME:MST
DTSTART:20261101T080000
END:STANDARD
END:VTIMEZONE
BEGIN:VEVENT
DTSTART;TZID=America/Denver:20250214T200000
DTEND;TZID=America/Denver:20250215T000000
DTSTAMP:20260422T021440
CREATED:20250208T000548Z
LAST-MODIFIED:20250208T000548Z
UID:1712-1739563200-1739577600@fococo.events
SUMMARY:Special Salsa & Bachata Valentine's Dancing at The Neighbor
DESCRIPTION:This is a special Valentine’s Edition of our new Salsa & Bachata dance events at The Neighbor – \nPlease note that this will be on FRIDAY (Feb.14th) \, while other future events  will be the 2nd Tuesday of the month. This particular event will be capped at a certain number of attendees this time around. \nThat said\, we would like to encourage you to: \n\nGrab your ticket as soon as possible\nDress up for the occasion\nInvite friends and family you love to join you\nCome early for food and drinks\, stay for the dancing on that special day.\n\nWe will have a complimentary all-level dance lesson starting at 8:00pm for all those who buy their attendance ticket. \nWe will also have 2 pro DJs at hand to make sure your dancing mix is on point. \nIt is all about that love right ? \nFoCoCo Events Team
URL:https://fococo.events/event/salsa-bachata-valentine-dance/
LOCATION:The Neighbor\, 144 S Mason\, Fort Collins\, 80524\, United States
ATTACH;FMTTYPE=image/png:https://fococo.events/wp-content/uploads/2025/02/FoCoCoEvents_Valentine_Dance-s.png
END:VEVENT
END:VCALENDAR